BEGIN:VCALENDAR
VERSION:2.0
PRODID:VI Festival ÓBIDOS + ATIVO
X-WR-CALNAME:VI Festival ÓBIDOS + ATIVO
X-WR-TIMEZONE:Europe/Lisbon
X-PUBLISHED-TTL:P1W
BEGIN:VTIMEZONE
TZID:Europe/Lisbon
X-LIC-LOCATION:Europe/Lisbon
END:VTIMEZONE
BEGIN:VEVENT
UID:69eb598ee9c20
DTSTART;VALUE=DATE:20250527
SEQUENCE:0
TRANSP:OPAQUE
DTEND;VALUE=DATE:20250528
SUMMARY:VI Festival ÓBIDOS + ATIVO
CLASS:PUBLIC
DESCRIPTION:Entre os dia 27 de maio e 1 de junho\, o Município de Óbidos 
 promove a 6ª edição do Festival ÓBIDOS + ATIVO que decorrerá no Compl
 exo Desportivo de Óbidos.
X-MICROSOFT-CDO-ALLDAYEVENT:TRUE
DTSTAMP:20260424T115246Z
END:VEVENT
END:VCALENDAR