BEGIN:VCALENDAR
VERSION:2.0
PRODID:Dia dos Avós
X-WR-CALNAME:Dia dos Avós
X-WR-TIMEZONE:Europe/Lisbon
X-PUBLISHED-TTL:P1W
BEGIN:VTIMEZONE
TZID:Europe/Lisbon
X-LIC-LOCATION:Europe/Lisbon
END:VTIMEZONE
BEGIN:VEVENT
UID:69eb596fd1b5f
DTSTART;VALUE=DATE:20240726
SEQUENCE:0
TRANSP:OPAQUE
DTEND;VALUE=DATE:20240727
SUMMARY:Dia dos Avós
CLASS:PUBLIC
DESCRIPTION:Para comemorar o Dia dos Avós a Junta de Freguesia de Santa Ma
 ria\, São Pedro e Sobral da Lagoa vai organizar o habitual passeio\, dest
 a feita\, com destino a Almeirim e Salvaterra de Magos.
X-MICROSOFT-CDO-ALLDAYEVENT:TRUE
DTSTAMP:20260424T115215Z
END:VEVENT
END:VCALENDAR