BEGIN:VCALENDAR
VERSION:2.0
PRODID:Festival Internacional de Piano do Oeste
X-WR-CALNAME:Festival Internacional de Piano do Oeste
X-WR-TIMEZONE:Europe/Lisbon
X-PUBLISHED-TTL:P1W
BEGIN:VTIMEZONE
TZID:Europe/Lisbon
X-LIC-LOCATION:Europe/Lisbon
END:VTIMEZONE
BEGIN:VEVENT
UID:69eb58d4dff56
DTSTART;VALUE=DATE:20240621
SEQUENCE:0
TRANSP:OPAQUE
DTEND;VALUE=DATE:20240622
SUMMARY:Festival Internacional de Piano do Oeste
CLASS:PUBLIC
DESCRIPTION:Entre os dias 21 de junho e 21 de julho decorre o Festival Inte
 rnacional de Piano do Oeste.
X-MICROSOFT-CDO-ALLDAYEVENT:TRUE
DTSTAMP:20260424T114940Z
END:VEVENT
END:VCALENDAR