BEGIN:VCALENDAR
VERSION:2.0
PRODID:Mercado Medieval de Óbidos
X-WR-CALNAME:Mercado Medieval de Óbidos
X-WR-TIMEZONE:Europe/Lisbon
X-PUBLISHED-TTL:P1W
BEGIN:VTIMEZONE
TZID:Europe/Lisbon
X-LIC-LOCATION:Europe/Lisbon
END:VTIMEZONE
BEGIN:VEVENT
UID:69eb596f92a19
DTSTART;VALUE=DATE:20240718
SEQUENCE:0
TRANSP:OPAQUE
DTEND;VALUE=DATE:20240719
SUMMARY:Mercado Medieval de Óbidos
CLASS:PUBLIC
DESCRIPTION:De 18 a 28 de de julho Óbidos viaja até à Idade Média para 
 mais uma edição do MERCADO MEDIEVAL DE ÓBIDOS.\"Ergue-se a festa a El-R
 ei D. Dinis e a D. Isabel de Aragão\, Rainha Santa\, que por Terras de Ó
 bidos estão. Colchas às janelas\, flores em arco\, gritos de alegria. S
 ão as gentes que se ajuntam para ver os soberanos chegar com o seu séqui
 to entre os rufos dos tambores e as notas musicais das flautas e dos alaú
 des. Eis que El-Rei e a soberana Rainha vem de visita a Óbidos para que e
 sta veja\, pelos seus próprios olhos\, a mais linda terra que recebeu em 
 arras pela sua união. Está o Mercado Medieval de Óbidos prestes a sauda
 r tão real visita.\"https://mercadomedievalobidos.pt/
X-MICROSOFT-CDO-ALLDAYEVENT:TRUE
DTSTAMP:20260424T115215Z
END:VEVENT
END:VCALENDAR