BEGIN:VCALENDAR
VERSION:2.0
PRODID:Festa em Honra de Santa Ana - Pinhal
X-WR-CALNAME:Festa em Honra de Santa Ana - Pinhal
X-WR-TIMEZONE:Europe/Lisbon
X-PUBLISHED-TTL:P1W
BEGIN:VTIMEZONE
TZID:Europe/Lisbon
X-LIC-LOCATION:Europe/Lisbon
END:VTIMEZONE
BEGIN:VEVENT
UID:69eb59b880e29
DTSTART;VALUE=DATE:20240913
SEQUENCE:0
TRANSP:OPAQUE
DTEND;VALUE=DATE:20240914
SUMMARY:Festa em Honra de Santa Ana - Pinhal
CLASS:PUBLIC
DESCRIPTION:Entre os dias 13 e 18 de setembro a Sociedade Cultural e Recrea
 tiva Pinhalense levará a cabo a tradicional Festa em Honra de Santa Ana.A
 lém da animação musical e do serviço de restaurante destacam-se como p
 ontos altos\, a Procissão em Honra de Santa Ana e a Batatada.
X-MICROSOFT-CDO-ALLDAYEVENT:TRUE
DTSTAMP:20260424T115328Z
END:VEVENT
END:VCALENDAR