BEGIN:VCALENDAR
VERSION:2.0
PRODID:Festa em Honra de Santo António - A-da-Gorda
X-WR-CALNAME:Festa em Honra de Santo António - A-da-Gorda
X-WR-TIMEZONE:Europe/Lisbon
X-PUBLISHED-TTL:P1W
BEGIN:VTIMEZONE
TZID:Europe/Lisbon
X-LIC-LOCATION:Europe/Lisbon
END:VTIMEZONE
BEGIN:VEVENT
UID:69eb58f31d764
DTSTART;VALUE=DATE:20240613
SEQUENCE:0
TRANSP:OPAQUE
DTEND;VALUE=DATE:20240614
SUMMARY:Festa em Honra de Santo António - A-da-Gorda
CLASS:PUBLIC
DESCRIPTION:De 13 a 17 de junho decorre na A-da-Gorda a tradicional Festa e
 m Honra de Santo António.
X-MICROSOFT-CDO-ALLDAYEVENT:TRUE
DTSTAMP:20260424T115011Z
END:VEVENT
END:VCALENDAR