BEGIN:VCALENDAR
VERSION:2.0
PRODID:Festa em Honra de Santo António - A-da-Gorda
X-WR-CALNAME:Festa em Honra de Santo António - A-da-Gorda
X-WR-TIMEZONE:Europe/Lisbon
X-PUBLISHED-TTL:P1W
BEGIN:VTIMEZONE
TZID:Europe/Lisbon
X-LIC-LOCATION:Europe/Lisbon
END:VTIMEZONE
BEGIN:VEVENT
UID:69eb5955451f0
DTSTART;VALUE=DATE:20250612
SEQUENCE:0
TRANSP:OPAQUE
DTEND;VALUE=DATE:20250613
SUMMARY:Festa em Honra de Santo António - A-da-Gorda
CLASS:PUBLIC
DESCRIPTION:Decorre\, entre os dias 12 e 16 de junho decorre\, na A-da-Gord
 a\, a tradicional Festa em honra de Santo António.
X-MICROSOFT-CDO-ALLDAYEVENT:TRUE
DTSTAMP:20260424T115149Z
END:VEVENT
END:VCALENDAR