BEGIN:VCALENDAR
VERSION:2.0
PRODID:SIPO - Semana Internacional do Piano de Óbidos 
X-WR-CALNAME:SIPO - Semana Internacional do Piano de Óbidos 
X-WR-TIMEZONE:Europe/Lisbon
X-PUBLISHED-TTL:P1W
BEGIN:VTIMEZONE
TZID:Europe/Lisbon
X-LIC-LOCATION:Europe/Lisbon
END:VTIMEZONE
BEGIN:VEVENT
UID:69eb59fb5bd2f
DTSTART;VALUE=DATE:20240711
SEQUENCE:0
TRANSP:OPAQUE
DTEND;VALUE=DATE:20240712
SUMMARY:SIPO - Semana Internacional do Piano de Óbidos 
CLASS:PUBLIC
DESCRIPTION:Decorre entre os dias 11 e 17 de julho mais uma edição da SIP
 O - Semana Internacional do Piano de Óbidos.
X-MICROSOFT-CDO-ALLDAYEVENT:TRUE
DTSTAMP:20260424T115435Z
END:VEVENT
END:VCALENDAR