BEGIN:VCALENDAR
VERSION:2.0
PRODID:Festa em Honra de São Sebastião - Sobral da Lagoa
X-WR-CALNAME:Festa em Honra de São Sebastião - Sobral da Lagoa
X-WR-TIMEZONE:Europe/Lisbon
X-PUBLISHED-TTL:P1W
BEGIN:VTIMEZONE
TZID:Europe/Lisbon
X-LIC-LOCATION:Europe/Lisbon
END:VTIMEZONE
BEGIN:VEVENT
UID:69eb593c3aaf4
DTSTART;VALUE=DATE:20240510
SEQUENCE:0
TRANSP:OPAQUE
DTEND;VALUE=DATE:20240511
SUMMARY:Festa em Honra de São Sebastião - Sobral da Lagoa
CLASS:PUBLIC
DESCRIPTION:Decorre entre os dias 10 e 12 de maio a tradicional Festa em Ho
 nra de São Sebastião.&nbsp\;
X-MICROSOFT-CDO-ALLDAYEVENT:TRUE
DTSTAMP:20260424T115124Z
END:VEVENT
END:VCALENDAR