BEGIN:VCALENDAR
VERSION:2.0
PRODID:Festa em Honra do Senhor Jesus do Carregal
X-WR-CALNAME:Festa em Honra do Senhor Jesus do Carregal
X-WR-TIMEZONE:Europe/Lisbon
X-PUBLISHED-TTL:P1W
BEGIN:VTIMEZONE
TZID:Europe/Lisbon
X-LIC-LOCATION:Europe/Lisbon
END:VTIMEZONE
BEGIN:VEVENT
UID:69eb58a0ba555
DTSTART;VALUE=DATE:20240509
SEQUENCE:0
TRANSP:OPAQUE
DTEND;VALUE=DATE:20240510
SUMMARY:Festa em Honra do Senhor Jesus do Carregal
CLASS:PUBLIC
DESCRIPTION:De 9 a 12 de maio decorre\, no Carregal\, as tradicionais Festa
 s em Honra do Senhor Jesus do Carregal.
X-MICROSOFT-CDO-ALLDAYEVENT:TRUE
DTSTAMP:20260424T114848Z
END:VEVENT
END:VCALENDAR