BEGIN:VCALENDAR
VERSION:2.0
PRODID:Exposição - Linhas com História que Guardam Memória - Bordado de
  Óbidos
X-WR-CALNAME:Exposição - Linhas com História que Guardam Memória - Bord
 ado de Óbidos
X-WR-TIMEZONE:Europe/Lisbon
X-PUBLISHED-TTL:P1W
BEGIN:VTIMEZONE
TZID:Europe/Lisbon
X-LIC-LOCATION:Europe/Lisbon
END:VTIMEZONE
BEGIN:VEVENT
UID:69eb58f31c59a
DTSTART;VALUE=DATE:20240708
SEQUENCE:0
TRANSP:OPAQUE
DTEND;VALUE=DATE:20240709
SUMMARY:Exposição - Linhas com História que Guardam Memória - Bordado d
 e Óbidos
CLASS:PUBLIC
DESCRIPTION:No dia 8 de julho\, pelas 18h30\, é inaugurada a exposição L
 inhas Com História Que Guardam Memórias que estará patente no Museu Ab
 ílio de Mattos e Silva até ao próximo mês de setembro.
X-MICROSOFT-CDO-ALLDAYEVENT:TRUE
DTSTAMP:20260424T115011Z
END:VEVENT
END:VCALENDAR