BEGIN:VCALENDAR
VERSION:2.0
PRODID:72° Aniversário da Sociedade Musical e Recreativa Obidense 
X-WR-CALNAME:72° Aniversário da Sociedade Musical e Recreativa Obidense 
X-WR-TIMEZONE:Europe/Lisbon
X-PUBLISHED-TTL:P1W
BEGIN:VTIMEZONE
TZID:Europe/Lisbon
X-LIC-LOCATION:Europe/Lisbon
END:VTIMEZONE
BEGIN:VEVENT
UID:69eb67e350272
DTSTART;VALUE=DATE:20240706
SEQUENCE:0
TRANSP:OPAQUE
DTEND;VALUE=DATE:20240707
SUMMARY:72° Aniversário da Sociedade Musical e Recreativa Obidense 
CLASS:PUBLIC
DESCRIPTION:A Sociedade Musical e Recreativa Obidense comemora 72 anos de a
 tividade com um concerto no próximo dia 6 de julho.
X-MICROSOFT-CDO-ALLDAYEVENT:TRUE
DTSTAMP:20260424T125355Z
END:VEVENT
END:VCALENDAR