BEGIN:VCALENDAR
VERSION:2.0
PRODID:Festa de Verão em Honra de Santo António - Capeleira
X-WR-CALNAME:Festa de Verão em Honra de Santo António - Capeleira
X-WR-TIMEZONE:Europe/Lisbon
X-PUBLISHED-TTL:P1W
BEGIN:VTIMEZONE
TZID:Europe/Lisbon
X-LIC-LOCATION:Europe/Lisbon
END:VTIMEZONE
BEGIN:VEVENT
UID:69eb593c77df5
DTSTART;VALUE=DATE:20240705
SEQUENCE:0
TRANSP:OPAQUE
DTEND;VALUE=DATE:20240706
SUMMARY:Festa de Verão em Honra de Santo António - Capeleira
CLASS:PUBLIC
DESCRIPTION:Entre os dias 5 e 8 de julho a Capeleira leva a cabo a Festa de
  Verão em Honra de Santo António.Uma organização da ARCACEN - Associa
 ção Recreativa e Cultural Amigos da Capeleira e Navalha.
X-MICROSOFT-CDO-ALLDAYEVENT:TRUE
DTSTAMP:20260424T115124Z
END:VEVENT
END:VCALENDAR