BEGIN:VCALENDAR
VERSION:2.0
PRODID:Festa de Verão em Honra de Santo António - Capeleira
X-WR-CALNAME:Festa de Verão em Honra de Santo António - Capeleira
X-WR-TIMEZONE:Europe/Lisbon
X-PUBLISHED-TTL:P1W
BEGIN:VTIMEZONE
TZID:Europe/Lisbon
X-LIC-LOCATION:Europe/Lisbon
END:VTIMEZONE
BEGIN:VEVENT
UID:69eb590d1a6fd
DTSTART;VALUE=DATE:20250704
SEQUENCE:0
TRANSP:OPAQUE
DTEND;VALUE=DATE:20250705
SUMMARY:Festa de Verão em Honra de Santo António - Capeleira
CLASS:PUBLIC
DESCRIPTION:De 4 a 7 de julho a ARCACEN - Associação Recreativa e Cultura
 l Amigos da Capeleira e Navalha leva a cabo a Festa de Verão em Honra de 
 Santo António.
X-MICROSOFT-CDO-ALLDAYEVENT:TRUE
DTSTAMP:20260424T115037Z
END:VEVENT
END:VCALENDAR