BEGIN:VCALENDAR
VERSION:2.0
PRODID:Comemoração do Dia da Criança - ARCACEN
X-WR-CALNAME:Comemoração do Dia da Criança - ARCACEN
X-WR-TIMEZONE:Europe/Lisbon
X-PUBLISHED-TTL:P1W
BEGIN:VTIMEZONE
TZID:Europe/Lisbon
X-LIC-LOCATION:Europe/Lisbon
END:VTIMEZONE
BEGIN:VEVENT
UID:69eb590d6da7a
DTSTART;VALUE=DATE:20240602
SEQUENCE:0
TRANSP:OPAQUE
DTEND;VALUE=DATE:20240603
SUMMARY:Comemoração do Dia da Criança - ARCACEN
CLASS:PUBLIC
DESCRIPTION:De forma a comemorar o Dia da Criança a ARCACEN - Associação
  Recreativa e Cultural Amigos da Capeleira e Navalha\,&nbsp\; vai promover
  diversas atividades e diversões.
X-MICROSOFT-CDO-ALLDAYEVENT:TRUE
DTSTAMP:20260424T115037Z
END:VEVENT
END:VCALENDAR