BEGIN:VCALENDAR
VERSION:2.0
PRODID:Almoço Convívio - ARCACEN
X-WR-CALNAME:Almoço Convívio - ARCACEN
X-WR-TIMEZONE:Europe/Lisbon
X-PUBLISHED-TTL:P1W
BEGIN:VTIMEZONE
TZID:Europe/Lisbon
X-LIC-LOCATION:Europe/Lisbon
END:VTIMEZONE
BEGIN:VEVENT
UID:69eb58ca23fd8
DTSTART;VALUE=DATE:20240602
SEQUENCE:0
TRANSP:OPAQUE
DTEND;VALUE=DATE:20240603
SUMMARY:Almoço Convívio - ARCACEN
CLASS:PUBLIC
DESCRIPTION:No próximo dia 2 de junho a ARCACEN - Associação Recreativa 
 e Cultural Amigos da Capeleira e Navalha vai levar a cabo um ALMOÇO CONV
 ÍVIO de Queixadas no Forno.
X-MICROSOFT-CDO-ALLDAYEVENT:TRUE
DTSTAMP:20260424T114930Z
END:VEVENT
END:VCALENDAR