BEGIN:VCALENDAR
VERSION:2.0
PRODID:Dia da Criança
X-WR-CALNAME:Dia da Criança
X-WR-TIMEZONE:Europe/Lisbon
X-PUBLISHED-TTL:P1W
BEGIN:VTIMEZONE
TZID:Europe/Lisbon
X-LIC-LOCATION:Europe/Lisbon
END:VTIMEZONE
BEGIN:VEVENT
UID:69eb58d40bd85
DTSTART;VALUE=DATE:20250601
SEQUENCE:0
TRANSP:OPAQUE
DTEND;VALUE=DATE:20250602
SUMMARY:Dia da Criança
CLASS:PUBLIC
DESCRIPTION:A ARCACEN - Associação Recreativa e Cultural Amigos da Capele
 ira e Navalha vai assinalar o Dia Mundial da Criança com muitas atividade
 s e muita diversão.
X-MICROSOFT-CDO-ALLDAYEVENT:TRUE
DTSTAMP:20260424T114940Z
END:VEVENT
END:VCALENDAR